BEGIN:VCALENDAR
VERSION:2.0
PRODID:-//ChamberMaster//Event Calendar 2.0//EN
METHOD:PUBLISH
X-PUBLISHED-TTL:P3D
REFRESH-INTERVAL:P3D
CALSCALE:GREGORIAN
BEGIN:VEVENT
DTSTART:20211021T223000Z
DTEND:20211022T020000Z
X-MICROSOFT-CDO-ALLDAYEVENT:FALSE
SUMMARY:Neighbor to Neighbor Bingo Burger Bash
DESCRIPTION:Bingo and Burgers at Pine Bluff Country Club
X-ALT-DESC;FMTTYPE=text/html:Bingo and Burgers at Pine Bluff Country Club
LOCATION:Pine Bluff Country Club
UID:e.3619.35
SEQUENCE:3
DTSTAMP:20260421T200947Z
URL:https://members.jeffersoncountyalliance.com/events/details/neighbor-to-neighbor-bingo-burger-bash-35
END:VEVENT

END:VCALENDAR
